BEGIN:VCALENDAR
VERSION:2.0
PRODID:-//https://project142.org - ECPv4.6.21//NONSGML v1.0//EN
CALSCALE:GREGORIAN
METHOD:PUBLISH
X-WR-CALNAME:https://project142.org
X-ORIGINAL-URL:https://www.project142.org
X-WR-CALDESC:Events for https://project142.org
BEGIN:VEVENT
DTSTART;TZID=UTC+0:20160610T193000
DTEND;TZID=UTC+0:20160610T213000
DTSTAMP:20260422T205453
CREATED:20160309T140420Z
LAST-MODIFIED:20160309T140619Z
UID:496-1465587000-1465594200@www.project142.org
SUMMARY:*Courtesy Posting for Project 142 Artist - Non Project 142 Event* Friday - June 10\, 2016 -  North Shore Opera Hour - Clef Note Productions (Chicago IL.) - 7:30p. 
DESCRIPTION:*Courtesy Posting for Project 142 Artist – Non Project 142 Event*\nFriday – June 10\, 2016 – 7:30p. – A CELEBRATION OF PARENTS – North Shore Opera Hour / Clef Note Productions – Immaculate Heart of Mary Church – 3834 N. Spaulding Avenue\, Chicago\, IL – 60618.\nAdvance Tickets of $18.00 via:\nwww.eventbrite.com/a-celebration-of-parents-24470591143\n$20.00 @ the door on June 10th\nFind Clef Note Productions on FaceBook      \n
URL:/event/coutsey-posting-for-project-142-artist-non-project-142-event-friday-june-10-2016-north-shore-opera-hour-clef-note-productions-chicago-il-730p
ATTACH;FMTTYPE=image/jpeg:/wp-content/uploads/2016/03/Parents-Day-concert-001bc.jpg
END:VEVENT
END:VCALENDAR