BEGIN:VCALENDAR
VERSION:2.0
PRODID:-//https://project142.org - ECPv4.6.21//NONSGML v1.0//EN
CALSCALE:GREGORIAN
METHOD:PUBLISH
X-WR-CALNAME:https://project142.org
X-ORIGINAL-URL:https://www.project142.org
X-WR-CALDESC:Events for https://project142.org
BEGIN:VEVENT
DTSTART;TZID=UTC+0:20260424T003000
DTEND;TZID=UTC+0:20260424T230000
DTSTAMP:20260421T085516
CREATED:20260301T094908Z
LAST-MODIFIED:20260419T022518Z
UID:8033-1776990600-1777071600@www.project142.org
SUMMARY:**PROJECT 142 "DEDICATION AROUND THE NATION" Video Marketing & Interview Series - FEBRUARY 26\, 2026 - Upcoming APRIL 19\, 2026 SUNDAY JAZZ BRUNCH SCOT ALBERTSON & JOHN BABOIAN DUO at PEARL STREET STATION in MALDEN\, MA. - Time: NOON thru 3:00P.M. Episode /  THANK YOU The ASTROFLOWER Weekly Video Series & TOM LAWLESS /  APRIL 20\, 2026 SARAH BRADLEE FULTON STATUE CEREMONY Non Profit in MEDFORD\, MA.  /  FEB. 18\, 2026 WPLG 10 NEWS "DON'T TRASH OUR TREASURE" Series REPORT on FLORIDA INTERNATIONAL UNIVERSITY WHALE & DOLPHIN TAGGING RESEARCH PROGRAM - FAHLO BRACELET PROGRAM / HAPPY BIRTHDAY FELICIA & BILLIE JO THOMAS / "PAUL PONDERS" Podcast Series UPCOMING MARCH 9\, 2026 SCOT ALBERTSON & BOB HYLDBURG RETURN GUESTS INTERVIEW / "CANDIDA" - YouTube
DESCRIPTION:“DEDICATION AROUND THE NATION”\nVideo Marketing & Interview Series\nWITH: Host – Producer – Vocalist\nSCOT ALBERTSON\nWebsite: https://scotalbertson.com\nFacebook Page –\nhttps://facebook.com/scotalbertson\nPROJECT 142 Facebook Page –\nhttps://facebook.com/project142nyc  \nFEBRUARY 26\, 2026\n**APRIL 19\, 2026 SCOT ALBERTSON & JOHN BABOIAN SUNDAY JAZZ BRUNCH at: PEARL STREET STATION RESTAURANT – 53 Summer St.\, MALDEN\, MA. –\nTIME: NOON thru 3:00P.M. – www.pearlstreetrestaurant.com\n**THANK YOU TOM LAWLESS & The ASTROFLOWER Weekly Video Series\n**APRIL 20\, 2026 SARAH BRADLEE FULTON STATUE CEREMONY Non Profit – MEDFORD\, MA. – www.lookingbackatmedfordhistory.com\n**FEB. 18\, 2026 WPLG 10 NEWS REPORT on FLORIDA INTERNATIONAL UNIVERSITY WHALE & DOLPHIN RESEARCH TAGGING PROGRAM –\nFAHLO BRACELET PROGRAM www.myfahlo.com\n**HAPPY BIRTHDAY FELICIA & BILLIE JO THOMAS\n**”PAUL PONDERS” Podcast Series – www.paulponders.com – Upcoming SCOT ALBERTSON & BOB HYLDBURG RETURN GUESTS  –\non MARCH 9\, 2026\n**INTERNATIONAL WOMEN IN JAZZ Non Profit – www.internationalwomeninjazz.org\n**”SEAL IN THE BATHTUB” NEW CHILDREN’s BOOK RELEASE – MARCH 2026  \nYouTube Link –\n  \n
URL:/event/project-142-dedication-around-the-nation-video-marketing-interview-series-february-26-2026
ATTACH;FMTTYPE=image/png:/wp-content/uploads/2026/03/Screenshot-2026-02-26-174914.png
END:VEVENT
END:VCALENDAR