BEGIN:VCALENDAR
VERSION:2.0
PRODID:-//https://project142.org - ECPv4.6.21//NONSGML v1.0//EN
CALSCALE:GREGORIAN
METHOD:PUBLISH
X-WR-CALNAME:https://project142.org
X-ORIGINAL-URL:https://www.project142.org
X-WR-CALDESC:Events for https://project142.org
BEGIN:VEVENT
DTSTART;TZID=UTC+0:20260601T020000
DTEND;TZID=UTC+0:20260601T230000
DTSTAMP:20260422T095527
CREATED:20240726T194255Z
LAST-MODIFIED:20260422T094917Z
UID:6485-1780279200-1780354800@www.project142.org
SUMMARY:**PROJECT 142 "DEDICATION AROUND THE NATION" Weekly Video Series - JULY 25\, 2024 - POLYPHEMUS MOTH Episode (SCOT ALBERTSON WILDLIFE PHOTOGRAPHY) / OCEAN PLASTIC RECYCLING UPDATES / "NATURE" PBS JULY 22\, 2024 "WILD HOPE" Episode / THE ASTROFLOWER (TOM LAWLESS) Video Promotion Support / JONATHAN CARUSO PHOTOGRAPHY / JULY 26\, 2024 PEARL STREET STATION COMEDY NITE 8:00P.M. / "PAUL PONDERS" Podcast Series / "INCURABLY ROMANTIC" SCOT ALBERTSON SEXTET YouTube VIDEO - YouTube
DESCRIPTION:**PROJECT 142 “DEDICATION AROUND THE NATION”\nWeekly Video Marketing Series\nwith\nSCOT ALBERTSON\nWebsite – https://scotalbertson.com\nFacebook Page –\nhttps://facebook.com/scotalbertson  \nJULY 25\, 2024\nPOLYPHEMUS MOTH Episode (SCOT ALBERTSON WILDLIFE PHOTOGRAPHY) / THE ASTROFLOWER (TOM LAWLESS) /\nOCEAN PLASTIC RECYCLING UPDATES / “NATURE” on PBS JULY 22\, 2024 Episode SHOW\n**PROJECT 142 Video Promotion Support this Episode –\n**THE ASTROFLOWER www.theastroflower.com\n**JULY 18\, 2024 “DEDICATION” Episode\n**OCEAN PLASTIC RECYCLING UPDATE – “NATURE” Series on PBS JULY 22\, 2024 Episodce SHOW\n**JONATHAN CARUSO Photography\n**JULY 26\, 2024 PEARL STREET STATION RESTAURANT COMEDY NITE – MALDEN\, MA.\n**”INCURABLY ROMANTIC” SCOT ALBERTSON SEXTET YouTube PERFORMANCE Video\n**”PAUL PONDERS: Podcast Series – www.paulponders.com  \nYouTube Link –  \n  \n
URL:/event/project-142-dedication-around-the-nation-weekly-video-series-july-25-2025-polyphemus-moth-episode-scot-albertson-wildlife-photography-ocean-plastic-recycling-updates-nature-pbs-ju
ATTACH;FMTTYPE=image/png:/wp-content/uploads/2024/07/2024-07-25-7.png
END:VEVENT
END:VCALENDAR