BEGIN:VCALENDAR
VERSION:2.0
PRODID:-//https://project142.org - ECPv4.6.21//NONSGML v1.0//EN
CALSCALE:GREGORIAN
METHOD:PUBLISH
X-WR-CALNAME:https://project142.org
X-ORIGINAL-URL:https://www.project142.org
X-WR-CALDESC:Events for https://project142.org
BEGIN:VEVENT
DTSTART;TZID=UTC+0:20260606T043000
DTEND;TZID=UTC+0:20260606T230000
DTSTAMP:20260420T084524
CREATED:20230503T222732Z
LAST-MODIFIED:20260416T062032Z
UID:5539-1780720200-1780786800@www.project142.org
SUMMARY:**PROJECT 142 "DEDICATION POST ISOLATION" Weekly Video Series - MAY 3\, 2023 - GUEST POET: ROBERT C. FORD & SKY VAULT (MAY 5th EVENT) / MOTHER RACHEAL ORPHANAGE CENTER / RIO CLEMENTE at WATCHUNG ARTS CENTER MAY 7th - YouTube
DESCRIPTION:**PROJECT 142 “DEDICATION POST ISOLATION”\n Weekly Video Series  \nwith\nSCOT ALBERTSON  \nHome \n  \nMAY 3\, 2023\n**PROJECT 142: GUEST POET: ROBERT C. FORD & SKY VAULT (MAY 5th Event) /\nMOTHER RACHEAL ORPHANAGE CENTER / RIO CLEMENTE at WATCHUNG ARTS CENTER MAY 7th (N.J.)\n**ROBERT C. FORD POEMS –\n“MAY THE GREAT ARK SAVE THE DRONES” & “MOTHER EARTH DOESN’T WEAR LIPSTICK”\n**MOTHER RACHEAL ORPHANAGE CENTER (Uganda) – 20 months of Marketing Support\n**MAY 5\, 2023 at 7:00p.m. – SKY VAULT (NYC)\n**MAY 7\, 2023 – 3:00p.m. – RIO CLEMENTE at WATCHUNG ARTS CENTER (N.J.)  \nYouTube Link –  \n \n
URL:/event/project-142-dedication-post-isolation-weekly-video-series-may-3-2023-guest-poet-robert-c-ford-sky-vault-may-5th-event-mother-racheal-orphanage-center-rio-clemente-at-watchung-arts
ATTACH;FMTTYPE=image/png:/wp-content/uploads/2023/05/2023-05-03-23.png
END:VEVENT
END:VCALENDAR