BEGIN:VCALENDAR
VERSION:2.0
PRODID:-//https://project142.org - ECPv4.6.21//NONSGML v1.0//EN
CALSCALE:GREGORIAN
METHOD:PUBLISH
X-WR-CALNAME:https://project142.org
X-ORIGINAL-URL:https://www.project142.org
X-WR-CALDESC:Events for https://project142.org
BEGIN:VEVENT
DTSTART;TZID=UTC+0:20260702T080000
DTEND;TZID=UTC+0:20260702T233000
DTSTAMP:20260421T083748
CREATED:20220727T091115Z
LAST-MODIFIED:20250822T081216Z
UID:4931-1782979200-1783035000@www.project142.org
SUMMARY:**PROJECT 142 “DEDICATION POST ISOLATION” YouTube Series - JULY 25\, 2022 End Of July Marketing Episode - YouTube (Archived)
DESCRIPTION:PROJECT 142 “DEDICATION POST ISOLATION” YouTube Series\n3rd Episodic Season \nWith\nSCOT ALBERTSON \nHome \n \nJULY 25\, 2022\nEnd of July Marketing Episode \nYouTube Link \n \n
URL:/event/project-142-dedication-post-isolation-youtube-series-july-25-2022-episode
ATTACH;FMTTYPE=image/png:/wp-content/uploads/2022/07/2022-08-09-9.png
END:VEVENT
END:VCALENDAR