BEGIN:VCALENDAR
VERSION:2.0
PRODID:-//https://project142.org - ECPv4.6.21//NONSGML v1.0//EN
CALSCALE:GREGORIAN
METHOD:PUBLISH
X-WR-CALNAME:https://project142.org
X-ORIGINAL-URL:https://www.project142.org
X-WR-CALDESC:Events for https://project142.org
BEGIN:VEVENT
DTSTART;TZID=UTC+0:20260708T080000
DTEND;TZID=UTC+0:20260708T233000
DTSTAMP:20260421T095651
CREATED:20220710T172649Z
LAST-MODIFIED:20260412T074422Z
UID:4923-1783497600-1783553400@www.project142.org
SUMMARY:**PROJECT 142 "DEDICATION POST ISOLATION" YouTube Series - JULY 8\, 2022 - JULY JAZZ\, DANCES & BIRDS EPISODE - YouTube (Archived)
DESCRIPTION:**PROJECT 142 “DEDICATION POST ISOLATION” YouTube Weekly Series**\nwith\nSCOT ALBERTSON \nHome \n  \nJULY 8\, 2022 EPISODE\n“JULY JAZZ\, DANCES & BIRDS” \nRecorded at:  PPI RECORDING (NYC) \nYouTube Link – \n \n
URL:/event/project-142-dedication-post-isolation-youtube-series-july-8-2022-july-jazz-dances-birds-episode-youtube
ATTACH;FMTTYPE=image/png:/wp-content/uploads/2022/07/2022-07-09-8.png
END:VEVENT
END:VCALENDAR