BEGIN:VCALENDAR
VERSION:2.0
PRODID:-//https://project142.org - ECPv4.6.21//NONSGML v1.0//EN
CALSCALE:GREGORIAN
METHOD:PUBLISH
X-WR-CALNAME:https://project142.org
X-ORIGINAL-URL:https://www.project142.org
X-WR-CALDESC:Events for https://project142.org
BEGIN:VEVENT
DTSTART;TZID=UTC+0:20260529T080000
DTEND;TZID=UTC+0:20260529T233000
DTSTAMP:20260422T093823
CREATED:20220518T220627Z
LAST-MODIFIED:20260419T020026Z
UID:4718-1780041600-1780097400@www.project142.org
SUMMARY:**PROJECT 142 "DEDICATION POST ISOLATION" YOUTUBE SERIES - MAY 18\, 2022 - DEBUT UNDERWATER PHOTOGRAPHY EPISODE with SCOT ALBERTSON - YouTube (Archived)
DESCRIPTION:**PROJECT 142 “DEDICATION POST ISOLATION” YOUTUBE SERIES \nwith SCOT ALBERTSON \nHome \n \nMAY 18\, 2022\nDEBUT UNDERWATER PHOTOGRAPHY EPISODE  \nSCOT’s YOUTUBE CHANNEL – https://youtube.com/scotalbertson  \nMAY 18\, 2022 Episode\n  \n
URL:/event/project-142-dedication-post-isolation-youtube-series-may-18-2022-with-scot-albertson-youtube
ATTACH;FMTTYPE=image/png:/wp-content/uploads/2022/05/2022-05-18-8.png
END:VEVENT
END:VCALENDAR