BEGIN:VCALENDAR
VERSION:2.0
PRODID:-//https://project142.org - ECPv4.6.21//NONSGML v1.0//EN
CALSCALE:GREGORIAN
METHOD:PUBLISH
X-WR-CALNAME:https://project142.org
X-ORIGINAL-URL:https://www.project142.org
X-WR-CALDESC:Events for https://project142.org
BEGIN:VEVENT
DTSTART;TZID=UTC+0:20160515T150000
DTEND;TZID=UTC+0:20160515T170000
DTSTAMP:20260422T180928
CREATED:20160127T171440Z
LAST-MODIFIED:20160505T184553Z
UID:478-1463324400-1463331600@www.project142.org
SUMMARY:Sunday - May 15\, 2016 - Eunbi Kim Concert (Fred Hersch Program) - DiMenna Center (Benzaquen Hall) - NYC -  NEW CONCERT TIME 3:00p.m. - Online Tickets Available Early Purchase NOW!
DESCRIPTION:Sunday – May 15\, 2016 – 3:00p. – 5:00p. – DiMenna Center For Classical Music – NYC – EUNBI KIM CONCERT – 450 West 37th St. (between 9th & 10th Aves. – on 10th Ave. end) – 10018 – Benzaquen Hall (elevator to 1st Floor). Doors open @ 6:30p. Eunbi Kim – Pianist – www.eunbikimmusic.com. Doors open at 2:30p.\nPianist – Provocateur Eunbi Kim takes you on a revealing & intimate journey through hybrid jazz-classical works by 8-time GRAMMY nominated jazz legend Fred Hersch.  In this solo program\, Kim displays her signature emotional mastery with contemporary new music that is warm & introspective\, familiar through its famous classical influences (Tchaikovsky to tango)& dazzling as different musical worlds collide.     \nOnline Tickets available NOW for $10.00 via:\nwww.artful.ly/store/events/8586  \nNEW UPDATED CONCERT TIME – 3:00p.m. \n$20.00 Concert Charge at the Door on May 15th\nDoors open @ 2:30p.\nRefreshments provided  \n
URL:/event/sunday-eunbi-concert-may-15-2016-dimenna-center-benzaquen-hall-700p
ATTACH;FMTTYPE=image/jpeg:/wp-content/uploads/2016/01/Karjaka-Studio45.jpg
END:VEVENT
END:VCALENDAR