BEGIN:VCALENDAR
VERSION:2.0
PRODID:-//https://project142.org - ECPv4.6.21//NONSGML v1.0//EN
CALSCALE:GREGORIAN
METHOD:PUBLISH
X-WR-CALNAME:https://project142.org
X-ORIGINAL-URL:https://www.project142.org
X-WR-CALDESC:Events for https://project142.org
BEGIN:VEVENT
DTSTART;TZID=UTC+0:20160522T190000
DTEND;TZID=UTC+0:20160522T210000
DTSTAMP:20260422T193233
CREATED:20160310T041550Z
LAST-MODIFIED:20160519T143647Z
UID:499-1463943600-1463950800@www.project142.org
SUMMARY:Sunday - May  22\, 2016 - Karine Poghosyan Concert "Folk Inspirations" - DiMenna Center (Benzaquen Hall) - NYC - 7:00p.
DESCRIPTION:Sunday – May 22\, 2016 – 7:00p. – 9:00p. – DiMenna Center for Classical Music – NYC – KARINE POGHOSYAN CONCERT “Folk Inspirations” – 450 West 37th St. (between 9th & 10th Aves. – on 10th Ave. end) – Benzaquen Hall (elevator to 1st Floor) – 10018 – www.oslmusic.org.  Doors open @ 6:30p.  Karine Poghosyan – Pianist – www.karinepoghosyan.com.\n$35.00 Concert Charge / $20.00 for Students & Seniors\nat the door please (cash please)\nRefreshments provided by Project 142 \n
URL:/event/sunday-may-22-2016-karine-poghosyan-concert-folk-inspirations-dimenna-center-benzaquen-hall-nyc-700p
ATTACH;FMTTYPE=image/jpeg:/wp-content/uploads/2016/03/Folk-inspirations-DiMenna.jpg
END:VEVENT
END:VCALENDAR