BEGIN:VCALENDAR
VERSION:2.0
PRODID:-//https://project142.org - ECPv4.6.21//NONSGML v1.0//EN
CALSCALE:GREGORIAN
METHOD:PUBLISH
X-WR-CALNAME:https://project142.org
X-ORIGINAL-URL:https://www.project142.org
X-WR-CALDESC:Events for https://project142.org
BEGIN:VEVENT
DTSTART;TZID=UTC+0:20160622T200000
DTEND;TZID=UTC+0:20160622T220000
DTSTAMP:20260422T234755
CREATED:20160428T122300Z
LAST-MODIFIED:20160612T104510Z
UID:513-1466625600-1466632800@www.project142.org
SUMMARY:Wed. - June 22\, 2016 - Steve Sandberg: Solo Piano & Group Improvisations - DiMenna Center (Benzaquen Hall) - NYC - 8:00p.
DESCRIPTION:Wednesday – June 22\, 2016 – 8:00p. – 10:00p. – DiMenna Center For Classical Music – NYC – STEVE SANDBERG: SOLO PIANO CONCERT & GROUP IMPROVISATIONS – 450 West 37th St. (between 9th & 10th Aves. – on 10th Ave. end) – 10018 – Benzaquen Hall (elevator to 1st Floor) – www.oslmusic.org.  Doors open at 7:30p.  Steve Sandberg – Pianist / Composer / Performer – www.stevesandbergmusic.com.\nProgram: Haydn – Bach – Ravel – Chopin – Bartok – Sandberg – (all solo First Half of concert)\nSecond Half – Featuring Violinist Zach Brock – Michael O’Brien (Bass) & Mauricio Zottarelli (Drums)\nGroup Improvisations of Original Compositions\nSteve Sandberg is an eclectic musician who has participated in many worlds of music. Steve has studied classical piano starting at age 4.  Beginning with a wonderful Austrian teacher named Mr. Siegel (“I never knew his first name”)\, Steve continued with Michael Rogers\, Ralph Affaumado & Sofia Rosoff.  Steve was deeply entrenched in the New York Latin music scene as a protege of Mario Rivera; Steve toured with Bebel Gilberto\, Ruben Blades & David Bryne (on the “Rei Momo” tour).  Steve has conducted / arranged on & off Broadway (“Chronicle of a Death Foretold”)\, arranged / musical directed for the New York Shakespeare Festival\, composer / musical director for Nickelodeon’s “Dora The Explorer” & “Go\, Diego\, Go!” which led Steve to three (3) Emmy Nominations.  Steve also studied raga singing with Michael Harrison & Ustad Mashkoor Ali Khan\, & has performed electronic looping concerts at the Knitting Factory\, the Guggenheim Museum & Le Petit Versailles.\nIcing on this Concert – IT’S STEVE’S BIRTHDAY!\nConcert Charge – $20.00 at the door please\nDoors open @ 7:30p.\nRefreshments provided by Project 142            \n
URL:/event/wed-june-22-2016-steve-sandberg-solo-piano-group-improvisations-dimenna-center-benzaquen-hall-nyc-800p
ATTACH;FMTTYPE=image/jpeg:/wp-content/uploads/2016/04/Steve-Concert.jpg
END:VEVENT
END:VCALENDAR